BEGIN:VCALENDAR
VERSION:2.0
PRODID:-//Library Market//iCal Export//EN
BEGIN:VEVENT
SUMMARY:Needle Felting Class
UID:3340
DTSTAMP:20260422T084700Z
DTSTART:20260520T170000Z
DTEND:20260520T180000Z
LOCATION:133 E Main Street, Albemarle, NC 28001, United States
ROOM: Albemarle Learning Lounge
DESCRIPTION:Join our needle felting class and transform wool into cute lit
 tle mushrooms! We will be using sewing needles for this.Needle Punch/Felti
 ng uses barbed needles to compress wool fibers into a denser material by r
 epeatedly pushing theneedles through the fibers to lock them together.
URL:https://stanlycounty.librarycalendar.com/event/needle-felting-class-33
 40
END:VEVENT
END:VCALENDAR
