BEGIN:VCALENDAR
VERSION:2.0
PRODID:-//Library Market//iCal Export//EN
BEGIN:VEVENT
SUMMARY:Read To Me Too!
UID:3342
DTSTAMP:20260422T014900Z
DTSTART:20260511T163000Z
DTEND:20260511T170000Z
LOCATION:133 E Main Street, Albemarle, NC 28001, United States
ROOM: Albemarle Meeting Room
DESCRIPTION:Storytime for adults with intellectual and developmental disab
 ilities. A great experience of fun and learning.
URL:https://stanlycounty.librarycalendar.com/event/read-me-too-3342
END:VEVENT
END:VCALENDAR
